BEGIN:VCALENDAR
VERSION:2.0
PRODID:-//Sigma Delta Sigma Chapter - ECPv6.15.20//NONSGML v1.0//EN
CALSCALE:GREGORIAN
METHOD:PUBLISH
X-ORIGINAL-URL:https://sds1914.com
X-WR-CALDESC:Events for Sigma Delta Sigma Chapter
REFRESH-INTERVAL;VALUE=DURATION:PT1H
X-Robots-Tag:noindex
X-PUBLISHED-TTL:PT1H
BEGIN:VTIMEZONE
TZID:America/New_York
BEGIN:DAYLIGHT
TZOFFSETFROM:-0500
TZOFFSETTO:-0400
TZNAME:EDT
DTSTART:20240310T070000
END:DAYLIGHT
BEGIN:STANDARD
TZOFFSETFROM:-0400
TZOFFSETTO:-0500
TZNAME:EST
DTSTART:20241103T060000
END:STANDARD
BEGIN:DAYLIGHT
TZOFFSETFROM:-0500
TZOFFSETTO:-0400
TZNAME:EDT
DTSTART:20250309T070000
END:DAYLIGHT
BEGIN:STANDARD
TZOFFSETFROM:-0400
TZOFFSETTO:-0500
TZNAME:EST
DTSTART:20251102T060000
END:STANDARD
BEGIN:DAYLIGHT
TZOFFSETFROM:-0500
TZOFFSETTO:-0400
TZNAME:EDT
DTSTART:20260308T070000
END:DAYLIGHT
BEGIN:STANDARD
TZOFFSETFROM:-0400
TZOFFSETTO:-0500
TZNAME:EST
DTSTART:20261101T060000
END:STANDARD
END:VTIMEZONE
BEGIN:VEVENT
DTSTART;TZID=America/New_York:20250628T140000
DTEND;TZID=America/New_York:20250628T160000
DTSTAMP:20260423T170051
CREATED:20250621T203904Z
LAST-MODIFIED:20250622T015403Z
UID:1411-1751119200-1751126400@sds1914.com
SUMMARY:New Members Lunch
DESCRIPTION:This is the luncheon to celebrate the new members of our chapter. We are pre-paying $35 for our meals\, and will have unlimited amounts of whichever meal you select and drinks. This rate also includes appetizers are your tip. The deadline for the payment is Thursday\, June 26th at midnight. \n\n\n \nPowered by
URL:https://sds1914.com/calendar/new-members-lunch/
LOCATION:Rodney’s\, 2453 Cobb Pkwy SE\, Smyrna\, GA\, 30080\, United States
CATEGORIES:Fellowship
ORGANIZER;CN="Vince Dorvil":MAILTO:secretary@sds1914.com
END:VEVENT
BEGIN:VEVENT
DTSTART;TZID=America/New_York:20250510T080000
DTEND;TZID=America/New_York:20250510T123000
DTSTAMP:20260423T170051
CREATED:20250404T001844Z
LAST-MODIFIED:20250426T203515Z
UID:1305-1746864000-1746880200@sds1914.com
SUMMARY:Brotherhood Boat Ride
DESCRIPTION:Chapter Day on the Lake – Sigma Delta Sigma Chapter
URL:https://sds1914.com/calendar/brotherhood-boat-ride/
LOCATION:GA
CATEGORIES:Fellowship
END:VEVENT
BEGIN:VEVENT
DTSTART;TZID=America/New_York:20250411T190000
DTEND;TZID=America/New_York:20250411T220000
DTSTAMP:20260423T170051
CREATED:20250406T032205Z
LAST-MODIFIED:20250406T034033Z
UID:1350-1744398000-1744408800@sds1914.com
SUMMARY:Blue Friday - Metro Atlanta
DESCRIPTION:BLUE FRIDAYS Mixers: A Night to Connect and Celebrate! \nJoin us on Friday\, April 11th\, for an evening like no other! Blue Fridays is all about unwinding\, connecting\, and celebrating with the Metro Atlanta Sigmas in a lively\, vibrant atmosphere. Whether you’re in the mood to vibe with great music\, meet new people\, or just enjoy a chill night out\, we’ve got everything you need for a memorable time. \nBring your friends\, bring your energy\, and let’s create lasting memories together. Surrounded by amazing company\, with the perfect soundtrack setting the tone\, it’s more than just another Friday – it’s a D9 Fellowship gathering with style and purpose! \nWhat’s in Store: \nLive DJ spinning the best tracks all night \nCraft Cocktails to keep the vibe on point \nLaughter\, and engaging conversations among fellow professionals \nReconnect with old friends\, make new connections\, and soak in the relaxed\, stylish setting. See you there for a night of unforgettable vibes!
URL:https://sds1914.com/calendar/blue-friday-metro-atlanta/
LOCATION:The Gathering Spot\, 384 Northyards Boulevard NW\, Atlanta\, GA\, 30313\, United States
CATEGORIES:Fellowship
END:VEVENT
BEGIN:VEVENT
DTSTART;TZID=America/New_York:20250406T090000
DTEND;TZID=America/New_York:20250406T110000
DTSTAMP:20260423T170051
CREATED:20250406T030328Z
LAST-MODIFIED:20250406T034120Z
UID:1345-1743930000-1743937200@sds1914.com
SUMMARY:Fellowship and Faith`
DESCRIPTION:
URL:https://sds1914.com/calendar/fellowship-and-faith/
LOCATION:Faith & Fellowship – Gathering of Champions Church\, 1994 Powder Springs Road SW\, Marietta\, GA\, 30064\, United States
CATEGORIES:Fellowship
END:VEVENT
END:VCALENDAR