BEGIN:VCALENDAR
VERSION:2.0
PRODID:-//Sigma Delta Sigma Chapter - ECPv6.15.20//NONSGML v1.0//EN
CALSCALE:GREGORIAN
METHOD:PUBLISH
X-ORIGINAL-URL:https://sds1914.com
X-WR-CALDESC:Events for Sigma Delta Sigma Chapter
REFRESH-INTERVAL;VALUE=DURATION:PT1H
X-Robots-Tag:noindex
X-PUBLISHED-TTL:PT1H
BEGIN:VTIMEZONE
TZID:America/New_York
BEGIN:DAYLIGHT
TZOFFSETFROM:-0500
TZOFFSETTO:-0400
TZNAME:EDT
DTSTART:20240310T070000
END:DAYLIGHT
BEGIN:STANDARD
TZOFFSETFROM:-0400
TZOFFSETTO:-0500
TZNAME:EST
DTSTART:20241103T060000
END:STANDARD
BEGIN:DAYLIGHT
TZOFFSETFROM:-0500
TZOFFSETTO:-0400
TZNAME:EDT
DTSTART:20250309T070000
END:DAYLIGHT
BEGIN:STANDARD
TZOFFSETFROM:-0400
TZOFFSETTO:-0500
TZNAME:EST
DTSTART:20251102T060000
END:STANDARD
BEGIN:DAYLIGHT
TZOFFSETFROM:-0500
TZOFFSETTO:-0400
TZNAME:EDT
DTSTART:20260308T070000
END:DAYLIGHT
BEGIN:STANDARD
TZOFFSETFROM:-0400
TZOFFSETTO:-0500
TZNAME:EST
DTSTART:20261101T060000
END:STANDARD
END:VTIMEZONE
BEGIN:VEVENT
DTSTART;TZID=America/New_York:20250629T090000
DTEND;TZID=America/New_York:20250629T110000
DTSTAMP:20260423T170035
CREATED:20250621T203040Z
LAST-MODIFIED:20250621T203040Z
UID:1405-1751187600-1751194800@sds1914.com
SUMMARY:Sigma Dad Walk (March for Babies)
DESCRIPTION:
URL:https://sds1914.com/calendar/sigma-dad-walk-march-for-babies/
LOCATION:Rodney Cook Sr  Park\, 270 Vine St NW\, Atlanta\, GA\, 30314\, United States
CATEGORIES:Service
ORGANIZER;CN="Sigma Fathers":MAILTO:tyler.gibbs.tre@gmail.com
END:VEVENT
BEGIN:VEVENT
DTSTART;TZID=America/New_York:20250426T160000
DTEND;TZID=America/New_York:20250426T210000
DTSTAMP:20260423T170035
CREATED:20250406T040428Z
LAST-MODIFIED:20250406T040540Z
UID:1361-1745683200-1745701200@sds1914.com
SUMMARY:Relay For Life
DESCRIPTION:The chapter is raising money on behalf of the American Cancer Society. To join our team\, use the following link. \nRelay For Life of Cherokee County GA 2025 Presented By Northside Hospital Cancer Institute: Sigma Delta Sigma Chapter of Phi Beta Sigma Fraternity\, Inc. | Relay For Life
URL:https://sds1914.com/calendar/relay-for-life/
LOCATION:Etowah River Park\, 600 Brown Industrial Pkwy\, Canton\, GA\, 30114\, United States
CATEGORIES:Service
END:VEVENT
BEGIN:VEVENT
DTSTART;TZID=America/New_York:20250415T180000
DTEND;TZID=America/New_York:20250415T220000
DTSTAMP:20260423T170035
CREATED:20250406T035539Z
LAST-MODIFIED:20250406T035539Z
UID:1357-1744740000-1744754400@sds1914.com
SUMMARY:Walk A Mile In My Shoes
DESCRIPTION:Autism awareness walk \n \n 
URL:https://sds1914.com/calendar/walk-a-mile-in-my-shoes/
LOCATION:Lake Mayer Park\, 1850 E Montgomery Crossroad\, Savannah\, GA\, 31406\, United States
CATEGORIES:Service
END:VEVENT
BEGIN:VEVENT
DTSTART;TZID=America/New_York:20250412T090000
DTEND;TZID=America/New_York:20250412T120000
DTSTAMP:20260423T170035
CREATED:20250406T033511Z
LAST-MODIFIED:20250406T033949Z
UID:1353-1744448400-1744459200@sds1914.com
SUMMARY:Service - Food Pantry
DESCRIPTION:Service project: Brothers will sort and distribute food to families in need.
URL:https://sds1914.com/calendar/service-food-pantry/
LOCATION:Reflections of Trinity\, 4037 Austell Powder Springs Rd\, Powder Springs\, GA\, 30127\, United States
CATEGORIES:Service
END:VEVENT
END:VCALENDAR