BEGIN:VCALENDAR
VERSION:2.0
PRODID:-//Sigma Delta Sigma Chapter - ECPv6.15.20//NONSGML v1.0//EN
CALSCALE:GREGORIAN
METHOD:PUBLISH
X-WR-CALNAME:Sigma Delta Sigma Chapter
X-ORIGINAL-URL:https://sds1914.com
X-WR-CALDESC:Events for Sigma Delta Sigma Chapter
REFRESH-INTERVAL;VALUE=DURATION:PT1H
X-Robots-Tag:noindex
X-PUBLISHED-TTL:PT1H
BEGIN:VTIMEZONE
TZID:America/New_York
BEGIN:DAYLIGHT
TZOFFSETFROM:-0500
TZOFFSETTO:-0400
TZNAME:EDT
DTSTART:20250309T070000
END:DAYLIGHT
BEGIN:STANDARD
TZOFFSETFROM:-0400
TZOFFSETTO:-0500
TZNAME:EST
DTSTART:20251102T060000
END:STANDARD
BEGIN:DAYLIGHT
TZOFFSETFROM:-0500
TZOFFSETTO:-0400
TZNAME:EDT
DTSTART:20260308T070000
END:DAYLIGHT
BEGIN:STANDARD
TZOFFSETFROM:-0400
TZOFFSETTO:-0500
TZNAME:EST
DTSTART:20261101T060000
END:STANDARD
BEGIN:DAYLIGHT
TZOFFSETFROM:-0500
TZOFFSETTO:-0400
TZNAME:EDT
DTSTART:20270314T070000
END:DAYLIGHT
BEGIN:STANDARD
TZOFFSETFROM:-0400
TZOFFSETTO:-0500
TZNAME:EST
DTSTART:20271107T060000
END:STANDARD
END:VTIMEZONE
BEGIN:VEVENT
DTSTART;TZID=America/New_York:20260620T191400
DTEND;TZID=America/New_York:20260620T230000
DTSTAMP:20260423T182318
CREATED:20260328T015346Z
LAST-MODIFIED:20260411T000914Z
UID:1562-1781982840-1781996400@sds1914.com
SUMMARY:Rhapsody in Blue
DESCRIPTION:Rhapsody in Blue\nAn All Blue Affair & Premium Wine Tasting \nJune 20\, 2026 @ 7:14 PM Boxwood Social Hall | Marietta\, GA \n \n\nThe Experience\nRhapsody in Blue spotlights distinguished Black-owned wine and spirits brands while creating an intimate\, upscale environment for entertainment\, meaningful engagement\, brand storytelling\, and direct brand interaction. \nThis all Blue Affair is a night of tasting and celebration. Meet wine vendors\, enjoy catered bites\, hear live music\, and dance the night away in historic Marietta Square. \nProceeds from this event will support scholarships for current and incoming college students in the state of Georgia. \n \n\nSupport the Cause\nCan’t make it to the event\, or want to give a little extra? All donations directly support current and incoming college students in Georgia. \n    Make a Donation
URL:https://sds1914.com/calendar/rhapsody-in-blue/
LOCATION:Boxwood Social Hall\, 18 Whitlock Ave NW\, Marietta\, GA\, 30064\, United States
CATEGORIES:Fellowship,Scholarship
ATTACH;FMTTYPE=image/png:https://sds1914.com/wp-content/uploads/2026/03/RiB_updated-scaled.png
ORGANIZER;CN="Sigma Delta Sigma Chapter of Phi Beta Sigma Fraternity Inc.":MAILTO:president@sds1914.com
END:VEVENT
END:VCALENDAR