BEGIN:VCALENDAR
VERSION:2.0
PRODID:-//Sigma Delta Sigma Chapter - ECPv6.15.20//NONSGML v1.0//EN
CALSCALE:GREGORIAN
METHOD:PUBLISH
X-ORIGINAL-URL:https://sds1914.com
X-WR-CALDESC:Events for Sigma Delta Sigma Chapter
REFRESH-INTERVAL;VALUE=DURATION:PT1H
X-Robots-Tag:noindex
X-PUBLISHED-TTL:PT1H
BEGIN:VTIMEZONE
TZID:America/New_York
BEGIN:DAYLIGHT
TZOFFSETFROM:-0500
TZOFFSETTO:-0400
TZNAME:EDT
DTSTART:20240310T070000
END:DAYLIGHT
BEGIN:STANDARD
TZOFFSETFROM:-0400
TZOFFSETTO:-0500
TZNAME:EST
DTSTART:20241103T060000
END:STANDARD
BEGIN:DAYLIGHT
TZOFFSETFROM:-0500
TZOFFSETTO:-0400
TZNAME:EDT
DTSTART:20250309T070000
END:DAYLIGHT
BEGIN:STANDARD
TZOFFSETFROM:-0400
TZOFFSETTO:-0500
TZNAME:EST
DTSTART:20251102T060000
END:STANDARD
BEGIN:DAYLIGHT
TZOFFSETFROM:-0500
TZOFFSETTO:-0400
TZNAME:EDT
DTSTART:20260308T070000
END:DAYLIGHT
BEGIN:STANDARD
TZOFFSETFROM:-0400
TZOFFSETTO:-0500
TZNAME:EST
DTSTART:20261101T060000
END:STANDARD
END:VTIMEZONE
BEGIN:VEVENT
DTSTART;TZID=America/New_York:20250712T090000
DTEND;TZID=America/New_York:20250712T110000
DTSTAMP:20260424T185320
CREATED:20250621T203415Z
LAST-MODIFIED:20250622T020219Z
UID:1409-1752310800-1752318000@sds1914.com
SUMMARY:Food Distribution with Reflections of Trinity
DESCRIPTION:If interested in supporting this event\, please fill out this form on this link
URL:https://sds1914.com/calendar/food-distribution-with-reflections-of-trinity/
LOCATION:Reflections of Trinity\, 4037 Austell Powder Springs Rd\, Powder Springs\, GA\, 30127\, United States
END:VEVENT
END:VCALENDAR